BEGIN:VCALENDAR
VERSION:2.0
PRODID:-//Delta Christian School - ECPv6.15.20//NONSGML v1.0//EN
CALSCALE:GREGORIAN
METHOD:PUBLISH
X-ORIGINAL-URL:https://deltachristian.ca
X-WR-CALDESC:Events for Delta Christian School
REFRESH-INTERVAL;VALUE=DURATION:PT1H
X-Robots-Tag:noindex
X-PUBLISHED-TTL:PT1H
BEGIN:VTIMEZONE
TZID:America/Vancouver
BEGIN:DAYLIGHT
TZOFFSETFROM:-0800
TZOFFSETTO:-0700
TZNAME:PDT
DTSTART:20200308T100000
END:DAYLIGHT
BEGIN:STANDARD
TZOFFSETFROM:-0700
TZOFFSETTO:-0800
TZNAME:PST
DTSTART:20201101T090000
END:STANDARD
BEGIN:DAYLIGHT
TZOFFSETFROM:-0800
TZOFFSETTO:-0700
TZNAME:PDT
DTSTART:20210314T100000
END:DAYLIGHT
BEGIN:STANDARD
TZOFFSETFROM:-0700
TZOFFSETTO:-0800
TZNAME:PST
DTSTART:20211107T090000
END:STANDARD
BEGIN:DAYLIGHT
TZOFFSETFROM:-0800
TZOFFSETTO:-0700
TZNAME:PDT
DTSTART:20220313T100000
END:DAYLIGHT
BEGIN:STANDARD
TZOFFSETFROM:-0700
TZOFFSETTO:-0800
TZNAME:PST
DTSTART:20221106T090000
END:STANDARD
END:VTIMEZONE
BEGIN:VEVENT
DTSTART;VALUE=DATE:20211101
DTEND;VALUE=DATE:20211116
DTSTAMP:20260425T153214
CREATED:20210526T164318Z
LAST-MODIFIED:20211006T192943Z
UID:7674-1635724800-1636937999@deltachristian.ca
SUMMARY:Virtual Scholastic Book Fair
DESCRIPTION:
URL:https://deltachristian.ca/event/scholastic-book-fair-7/
CATEGORIES:General
END:VEVENT
BEGIN:VEVENT
DTSTART;VALUE=DATE:20211103
DTEND;VALUE=DATE:20211104
DTSTAMP:20260425T153214
CREATED:20210526T164021Z
LAST-MODIFIED:20210526T164021Z
UID:7666-1635897600-1635983999@deltachristian.ca
SUMMARY:New Family Applications Open
DESCRIPTION:
URL:https://deltachristian.ca/event/new-family-applications-open/
CATEGORIES:General
END:VEVENT
BEGIN:VEVENT
DTSTART;TZID=America/Vancouver:20211103T190000
DTEND;TZID=America/Vancouver:20211103T210000
DTSTAMP:20260425T153214
CREATED:20210526T163954Z
LAST-MODIFIED:20211022T200737Z
UID:7664-1635966000-1635973200@deltachristian.ca
SUMMARY:Open House (Tour Times Currently Full)
DESCRIPTION:
URL:https://deltachristian.ca/event/open-house-7-pm/
CATEGORIES:General
END:VEVENT
BEGIN:VEVENT
DTSTART;VALUE=DATE:20211105
DTEND;VALUE=DATE:20211106
DTSTAMP:20260425T153214
CREATED:20210526T164045Z
LAST-MODIFIED:20210526T164045Z
UID:7668-1636070400-1636156799@deltachristian.ca
SUMMARY:Community Clean Up
DESCRIPTION:
URL:https://deltachristian.ca/event/community-clean-up-5/
CATEGORIES:General
END:VEVENT
BEGIN:VEVENT
DTSTART;VALUE=DATE:20211111
DTEND;VALUE=DATE:20211112
DTSTAMP:20260425T153214
CREATED:20210426T205628Z
LAST-MODIFIED:20210426T205903Z
UID:7607-1636588800-1636675199@deltachristian.ca
SUMMARY:Remembrance Day (School Closed)
DESCRIPTION:
URL:https://deltachristian.ca/event/remembrance-day-no-school-4/
CATEGORIES:Holidays
END:VEVENT
BEGIN:VEVENT
DTSTART;VALUE=DATE:20211112
DTEND;VALUE=DATE:20211113
DTSTAMP:20260425T153214
CREATED:20210526T164118Z
LAST-MODIFIED:20210814T210126Z
UID:7670-1636675200-1636761599@deltachristian.ca
SUMMARY:Pro D Day\, CEBC Conference (No Classes)
DESCRIPTION:
URL:https://deltachristian.ca/event/pro-d-day-no-school-15/
CATEGORIES:General
END:VEVENT
BEGIN:VEVENT
DTSTART;VALUE=DATE:20211115
DTEND;VALUE=DATE:20211116
DTSTAMP:20260425T153214
CREATED:20210814T205552Z
LAST-MODIFIED:20210814T205558Z
UID:7767-1636934400-1637020799@deltachristian.ca
SUMMARY:Photo Re-Takes
DESCRIPTION:
URL:https://deltachristian.ca/event/photo-re-takes/
CATEGORIES:General
END:VEVENT
BEGIN:VEVENT
DTSTART;TZID=America/Vancouver:20211115T190000
DTEND;TZID=America/Vancouver:20211115T203000
DTSTAMP:20260425T153214
CREATED:20210526T164200Z
LAST-MODIFIED:20210526T164200Z
UID:7672-1637002800-1637008200@deltachristian.ca
SUMMARY:Fall AGM (7 PM\, Zoom)
DESCRIPTION:
URL:https://deltachristian.ca/event/fall-agm-7-pm-zoom/
CATEGORIES:General
END:VEVENT
BEGIN:VEVENT
DTSTART;VALUE=DATE:20211124
DTEND;VALUE=DATE:20211125
DTSTAMP:20260425T153214
CREATED:20210526T164405Z
LAST-MODIFIED:20211118T225852Z
UID:7676-1637712000-1637798399@deltachristian.ca
SUMMARY:Early Dismissal for Parent-Teacher Conferences (12:15 PM dismissal)
DESCRIPTION:
URL:https://deltachristian.ca/event/parent-teacher-conferences-noon-dismissal/
CATEGORIES:General
END:VEVENT
BEGIN:VEVENT
DTSTART;TZID=America/Vancouver:20211124T130000
DTEND;TZID=America/Vancouver:20211124T190000
DTSTAMP:20260425T153214
CREATED:20211118T225733Z
LAST-MODIFIED:20211118T225927Z
UID:7980-1637758800-1637780400@deltachristian.ca
SUMMARY:Parent-Teacher Conferences
DESCRIPTION:Sign up for an in-person meeting using this link: https://www.signupgenius.com/go/20f0b49aea722a31-parent1
URL:https://deltachristian.ca/event/parent-teacher-meetings/
CATEGORIES:General
END:VEVENT
BEGIN:VEVENT
DTSTART;VALUE=DATE:20211125
DTEND;VALUE=DATE:20211126
DTSTAMP:20260425T153214
CREATED:20211110T230957Z
LAST-MODIFIED:20211110T230957Z
UID:7969-1637798400-1637884799@deltachristian.ca
SUMMARY:Hot Lunch\, Pizza
DESCRIPTION:
URL:https://deltachristian.ca/event/hot-lunch-pizza/
CATEGORIES:General
END:VEVENT
BEGIN:VEVENT
DTSTART;VALUE=DATE:20211130
DTEND;VALUE=DATE:20211201
DTSTAMP:20260425T153214
CREATED:20210526T224517Z
LAST-MODIFIED:20210526T224517Z
UID:7678-1638230400-1638316799@deltachristian.ca
SUMMARY:End of Term 1
DESCRIPTION:
URL:https://deltachristian.ca/event/end-of-term-1/
CATEGORIES:General
END:VEVENT
END:VCALENDAR