BEGIN:VCALENDAR
VERSION:2.0
PRODID:-//Delta Christian School - ECPv6.15.20//NONSGML v1.0//EN
CALSCALE:GREGORIAN
METHOD:PUBLISH
X-ORIGINAL-URL:https://deltachristian.ca
X-WR-CALDESC:Events for Delta Christian School
REFRESH-INTERVAL;VALUE=DURATION:PT1H
X-Robots-Tag:noindex
X-PUBLISHED-TTL:PT1H
BEGIN:VTIMEZONE
TZID:America/Vancouver
BEGIN:DAYLIGHT
TZOFFSETFROM:-0800
TZOFFSETTO:-0700
TZNAME:PDT
DTSTART:20180311T100000
END:DAYLIGHT
BEGIN:STANDARD
TZOFFSETFROM:-0700
TZOFFSETTO:-0800
TZNAME:PST
DTSTART:20181104T090000
END:STANDARD
BEGIN:DAYLIGHT
TZOFFSETFROM:-0800
TZOFFSETTO:-0700
TZNAME:PDT
DTSTART:20190310T100000
END:DAYLIGHT
BEGIN:STANDARD
TZOFFSETFROM:-0700
TZOFFSETTO:-0800
TZNAME:PST
DTSTART:20191103T090000
END:STANDARD
BEGIN:DAYLIGHT
TZOFFSETFROM:-0800
TZOFFSETTO:-0700
TZNAME:PDT
DTSTART:20200308T100000
END:DAYLIGHT
BEGIN:STANDARD
TZOFFSETFROM:-0700
TZOFFSETTO:-0800
TZNAME:PST
DTSTART:20201101T090000
END:STANDARD
END:VTIMEZONE
BEGIN:VEVENT
DTSTART;VALUE=DATE:20190201
DTEND;VALUE=DATE:20190202
DTSTAMP:20260421T062827
CREATED:20180623T055730Z
LAST-MODIFIED:20180623T061233Z
UID:5501-1548979200-1549065599@deltachristian.ca
SUMMARY:Professional Day (No School)
DESCRIPTION:
URL:https://deltachristian.ca/event/professional-day-5/
CATEGORIES:General,Holidays
END:VEVENT
BEGIN:VEVENT
DTSTART;TZID=America/Vancouver:20190206T121500
DTEND;TZID=America/Vancouver:20190206T124500
DTSTAMP:20260421T062827
CREATED:20180625T052158Z
LAST-MODIFIED:20181101T182841Z
UID:5663-1549455300-1549457100@deltachristian.ca
SUMMARY:Community Lunch Prayer Gathering
DESCRIPTION:Parents\, students and staff all welcome to room 215 to pray together
URL:https://deltachristian.ca/event/community-lunch-prayer-gathering-6/
CATEGORIES:General
END:VEVENT
BEGIN:VEVENT
DTSTART;TZID=America/Vancouver:20190207T090000
DTEND;TZID=America/Vancouver:20190207T230000
DTSTAMP:20260421T062827
CREATED:20180624T074918Z
LAST-MODIFIED:20190108T190218Z
UID:5606-1549530000-1549580400@deltachristian.ca
SUMMARY:Pastors' Chapel and Brunch
DESCRIPTION:Invite your pastor to our pastor’s chapel and brunch\, a long-time tradition here at DCS.  All Delta and Richmond church are invited to send a pastor to this event\, as well as pastors of any other churches that our families attend.
URL:https://deltachristian.ca/event/pastors-chapel-brunch-4/
CATEGORIES:General
END:VEVENT
BEGIN:VEVENT
DTSTART;VALUE=DATE:20190211
DTEND;VALUE=DATE:20190216
DTSTAMP:20260421T062827
CREATED:20180823T191809Z
LAST-MODIFIED:20180823T191848Z
UID:5737-1549843200-1550275199@deltachristian.ca
SUMMARY:Carnaval Week
DESCRIPTION:The whole school will celebrate Carnaval\, a French-Canadian custom.  There will be classroom and whole-school events throughout the week\, culminating in a celebration on Friday.
URL:https://deltachristian.ca/event/carnaval-week/
END:VEVENT
BEGIN:VEVENT
DTSTART;VALUE=DATE:20190215
DTEND;VALUE=DATE:20190216
DTSTAMP:20260421T062827
CREATED:20180823T190955Z
LAST-MODIFIED:20180823T191241Z
UID:5728-1550188800-1550275199@deltachristian.ca
SUMMARY:Carnaval Celebration
DESCRIPTION:The final day of Carnaval – a celebration for all students and parents
URL:https://deltachristian.ca/event/carnaval-celebration/
END:VEVENT
BEGIN:VEVENT
DTSTART;VALUE=DATE:20190218
DTEND;VALUE=DATE:20190219
DTSTAMP:20260421T062827
CREATED:20180623T055839Z
LAST-MODIFIED:20180624T080416Z
UID:5503-1550448000-1550534399@deltachristian.ca
SUMMARY:Family Day (No School)
DESCRIPTION:We thank God for the blessing of families.  Enjoy the day off!
URL:https://deltachristian.ca/event/family-day-no-school-3/
CATEGORIES:General,Holidays
END:VEVENT
BEGIN:VEVENT
DTSTART;VALUE=DATE:20190222
DTEND;VALUE=DATE:20190223
DTSTAMP:20260421T062827
CREATED:20180623T055910Z
LAST-MODIFIED:20180823T192203Z
UID:5505-1550793600-1550879999@deltachristian.ca
SUMMARY:Casual Dress Day & Early Dismissal (1:50pm)
DESCRIPTION:
URL:https://deltachristian.ca/event/early-dismissal-150pm-4/
CATEGORIES:General
END:VEVENT
BEGIN:VEVENT
DTSTART;VALUE=DATE:20190227
DTEND;VALUE=DATE:20190228
DTSTAMP:20260421T062827
CREATED:20190117T183532Z
LAST-MODIFIED:20190117T183532Z
UID:5927-1551225600-1551311999@deltachristian.ca
SUMMARY:Pink Shirt Day
DESCRIPTION:Students may wear a pink shirt and any other pink clothing item they like in support of the anti-bullying initiative begun by high school students in Nova Scotia in 2007.  Official shirts are available through various retailers but they are not required.  Any pink shirt is accepted.
URL:https://deltachristian.ca/event/pink-shirt-day/
CATEGORIES:General
END:VEVENT
END:VCALENDAR