BEGIN:VCALENDAR
VERSION:2.0
PRODID:-//Delta Christian School - ECPv6.15.20//NONSGML v1.0//EN
CALSCALE:GREGORIAN
METHOD:PUBLISH
X-WR-CALNAME:Delta Christian School
X-ORIGINAL-URL:https://deltachristian.ca
X-WR-CALDESC:Events for Delta Christian School
REFRESH-INTERVAL;VALUE=DURATION:PT1H
X-Robots-Tag:noindex
X-PUBLISHED-TTL:PT1H
BEGIN:VTIMEZONE
TZID:America/Vancouver
BEGIN:DAYLIGHT
TZOFFSETFROM:-0800
TZOFFSETTO:-0700
TZNAME:PDT
DTSTART:20250309T100000
END:DAYLIGHT
BEGIN:STANDARD
TZOFFSETFROM:-0700
TZOFFSETTO:-0800
TZNAME:PST
DTSTART:20251102T090000
END:STANDARD
BEGIN:DAYLIGHT
TZOFFSETFROM:-0800
TZOFFSETTO:-0700
TZNAME:PDT
DTSTART:20260308T100000
END:DAYLIGHT
BEGIN:STANDARD
TZOFFSETFROM:-0700
TZOFFSETTO:-0800
TZNAME:PST
DTSTART:20261101T090000
END:STANDARD
BEGIN:DAYLIGHT
TZOFFSETFROM:-0800
TZOFFSETTO:-0700
TZNAME:PDT
DTSTART:20270314T100000
END:DAYLIGHT
BEGIN:STANDARD
TZOFFSETFROM:-0700
TZOFFSETTO:-0800
TZNAME:PST
DTSTART:20271107T090000
END:STANDARD
END:VTIMEZONE
BEGIN:VEVENT
DTSTART;VALUE=DATE:20260205
DTEND;VALUE=DATE:20260206
DTSTAMP:20260422T064326
CREATED:20260116T212001Z
LAST-MODIFIED:20260116T212001Z
UID:9767-1770249600-1770335999@deltachristian.ca
SUMMARY:PAC Hot Lunch\, Hot Dogs
DESCRIPTION:
URL:https://deltachristian.ca/event/pac-hot-lunch-hot-dogs-3/
CATEGORIES:General
END:VEVENT
BEGIN:VEVENT
DTSTART;VALUE=DATE:20260211
DTEND;VALUE=DATE:20260212
DTSTAMP:20260422T064326
CREATED:20250826T215130Z
LAST-MODIFIED:20250826T215130Z
UID:9698-1770768000-1770854399@deltachristian.ca
SUMMARY:Grandparents & Grand-friends Day
DESCRIPTION:
URL:https://deltachristian.ca/event/grandparents-grand-friends-day/
CATEGORIES:General
END:VEVENT
BEGIN:VEVENT
DTSTART;VALUE=DATE:20260213
DTEND;VALUE=DATE:20260214
DTSTAMP:20260422T064326
CREATED:20250520T175044Z
LAST-MODIFIED:20250520T175044Z
UID:9651-1770940800-1771027199@deltachristian.ca
SUMMARY:Professional Development Day\, No Classes
DESCRIPTION:
URL:https://deltachristian.ca/event/professional-development-day-no-classes-4/
CATEGORIES:General
END:VEVENT
BEGIN:VEVENT
DTSTART;VALUE=DATE:20260216
DTEND;VALUE=DATE:20260217
DTSTAMP:20260422T064326
CREATED:20250520T175113Z
LAST-MODIFIED:20250520T175113Z
UID:9652-1771200000-1771286399@deltachristian.ca
SUMMARY:Family Day\, School Closed
DESCRIPTION:
URL:https://deltachristian.ca/event/family-day-school-closed-5/
CATEGORIES:General
END:VEVENT
BEGIN:VEVENT
DTSTART;VALUE=DATE:20260225
DTEND;VALUE=DATE:20260226
DTSTAMP:20260422T064326
CREATED:20250826T215216Z
LAST-MODIFIED:20250826T215216Z
UID:9699-1771977600-1772063999@deltachristian.ca
SUMMARY:Pink Shirt Day (Anti-Bullying)
DESCRIPTION:
URL:https://deltachristian.ca/event/pink-shirt-day-anti-bullying/
CATEGORIES:General
END:VEVENT
BEGIN:VEVENT
DTSTART;VALUE=DATE:20260226
DTEND;VALUE=DATE:20260227
DTSTAMP:20260422T064326
CREATED:20260116T212036Z
LAST-MODIFIED:20260116T212036Z
UID:9768-1772064000-1772150399@deltachristian.ca
SUMMARY:PAC Hot Lunch\, Ladner Sushi
DESCRIPTION:
URL:https://deltachristian.ca/event/pac-hot-lunch-ladner-sushi-4/
CATEGORIES:General
END:VEVENT
END:VCALENDAR